4.00000000000000
0.00000000000000
0.00000000000000
-4.00000000000000
557077.00000000000000
3818129.00000000000000
