4.00000000000000
0.00000000000000
0.00000000000000
-4.00000000000000
591229.00000000000000
3846151.00000000000000
