4.00000000000000
0.00000000000000
0.00000000000000
-4.00000000000000
597024.00000000000000
3839282.00000000000000
