4.00000000000000
0.00000000000000
0.00000000000000
-4.00000000000000
585509.00000000000000
3846092.00000000000000
