4.00000000000000
0.00000000000000
0.00000000000000
-4.00000000000000
579848.00000000000000
3839106.00000000000000
