4.00000000000000
0.00000000000000
0.00000000000000
-4.00000000000000
597097.00000000000000
3832351.00000000000000
