4.00000000000000
0.00000000000000
0.00000000000000
-4.00000000000000
591367.00000000000000
3832289.00000000000000
