4.00000000000000
0.00000000000000
0.00000000000000
-4.00000000000000
597170.00000000000000
3825420.00000000000000
