4.00000000000000
0.00000000000000
0.00000000000000
-4.00000000000000
591436.00000000000000
3825358.00000000000000
