4.00000000000000
0.00000000000000
0.00000000000000
-4.00000000000000
597242.00000000000000
3818489.00000000000000
