4.00000000000000
0.00000000000000
0.00000000000000
-4.00000000000000
591504.00000000000000
3818427.00000000000000
