4.00000000000000
0.00000000000000
0.00000000000000
-4.00000000000000
585766.00000000000000
3818369.00000000000000
