4.00000000000000
0.00000000000000
0.00000000000000
-4.00000000000000
580028.00000000000000
3818313.00000000000000
