4.00000000000000
0.00000000000000
0.00000000000000
-4.00000000000000
562532.50000000000000
3859754.50000000000000
