4.00000000000000
0.00000000000000
0.00000000000000
-4.00000000000000
556820.50000000000000
3859712.50000000000000
