4.00000000000000
0.00000000000000
0.00000000000000
-4.00000000000000
562579.50000000000000
3852823.50000000000000
