4.00000000000000
0.00000000000000
0.00000000000000
-4.00000000000000
556863.50000000000000
3852782.50000000000000
