4.00000000000000
0.00000000000000
0.00000000000000
-4.00000000000000
568553.00000000000000
3818214.00000000000000
