4.00000000000000
0.00000000000000
0.00000000000000
-4.00000000000000
551185.47400000004600
3845814.22899999982000
