4.00000000000000
0.00000000000000
0.00000000000000
-4.00000000000000
562626.00000000000000
3845893.00000000000000
