4.00000000000000
0.00000000000000
0.00000000000000
-4.00000000000000
556905.00000000000000
3845852.00000000000000
