4.00000000000000
0.00000000000000
0.00000000000000
-4.00000000000000
562673.00000000000000
3838962.00000000000000
