4.00000000000000
0.00000000000000
0.00000000000000
-4.00000000000000
556948.00000000000000
3838921.00000000000000
