4.00000000000000
0.00000000000000
0.00000000000000
-4.00000000000000
545464.86699999996900
3845780.41000000015000
